BEGIN:VCALENDAR
PRODID:Nexudus
VERSION:2.0
BEGIN:VTIMEZONE
TZID:Europe/London
X-LIC-LOCATION:Europe/London
BEGIN:STANDARD
DTSTART:20241027T020000
RRULE:FREQ=YEARLY;BYDAY=-1SU;BYMONTH=10
TZNAME:GMT
TZOFFSETFROM:+0100
TZOFFSETTO:+0000
END:STANDARD
BEGIN:DAYLIGHT
DTSTART:20250330T010000
RRULE:FREQ=YEARLY;BYDAY=-1SU;BYMONTH=3
TZNAME:BST
TZOFFSETFROM:+0000
TZOFFSETTO:+0100
END:DAYLIGHT
END:VTIMEZONE
BEGIN:VEVENT
DESCRIPTION:Join us for complimentary drinks from 3 Locks Brewery\, an easy
  way to wind down after the workday.\n\nEvent link: https://labsnetworks.s
 paces.nexudus.com/en/events/view/1415698885/member-drinks--atrium\n
DTEND;TZID=Europe/London:20260528T190000
DTSTAMP:20260423T145026Z
DTSTART;TZID=Europe/London:20260528T173000
LOCATION:Atrium\, Pantry
SEQUENCE:0
SUMMARY:Member Drinks: Atrium
UID:95104adc-9860-48ba-b085-9a005cfe7b18
END:VEVENT
END:VCALENDAR
