BEGIN:VCALENDAR
PRODID:Nexudus
VERSION:2.0
BEGIN:VTIMEZONE
TZID:Europe/London
X-LIC-LOCATION:Europe/London
BEGIN:STANDARD
DTSTART:20241027T020000
RRULE:FREQ=YEARLY;BYDAY=-1SU;BYMONTH=10
TZNAME:GMT
TZOFFSETFROM:+0100
TZOFFSETTO:+0000
END:STANDARD
BEGIN:DAYLIGHT
DTSTART:20250330T010000
RRULE:FREQ=YEARLY;BYDAY=-1SU;BYMONTH=3
TZNAME:BST
TZOFFSETFROM:+0000
TZOFFSETTO:+0100
END:DAYLIGHT
END:VTIMEZONE
BEGIN:VEVENT
DESCRIPTION:Join our Camden neighbours\, Pick & Cheese\, for a cheese and w
 ine tasting.\nEvent link: https://labsnetworks.spaces.nexudus.com/en/event
 s/view/1415698769/cheese---wine-tasting\n
DTEND;TZID=Europe/London:20260513T180000
DTSTAMP:20260423T145012Z
DTSTART;TZID=Europe/London:20260513T160000
LOCATION:Atrium\, Pantry 
SEQUENCE:0
SUMMARY:Cheese & wine tasting
UID:df5bc7da-586b-45a4-9b28-e43e4870ad0c
END:VEVENT
END:VCALENDAR
