BEGIN:VCALENDAR
PRODID:Nexudus
VERSION:2.0
BEGIN:VTIMEZONE
TZID:Europe/London
X-LIC-LOCATION:Europe/London
BEGIN:STANDARD
DTSTART:20241027T020000
RRULE:FREQ=YEARLY;BYDAY=-1SU;BYMONTH=10
TZNAME:GMT
TZOFFSETFROM:+0100
TZOFFSETTO:+0000
END:STANDARD
BEGIN:DAYLIGHT
DTSTART:20250330T010000
RRULE:FREQ=YEARLY;BYDAY=-1SU;BYMONTH=3
TZNAME:BST
TZOFFSETFROM:+0000
TZOFFSETTO:+0100
END:DAYLIGHT
END:VTIMEZONE
BEGIN:VEVENT
DESCRIPTION:15-minute massage sessions. Email to book.\nEvent link: https:/
 /labsnetworks.spaces.nexudus.com/en/events/view/1415698905/massage-session
 s\n
DTEND;TZID=Europe/London:20260505T170000
DTSTAMP:20260421T214509Z
DTSTART;TZID=Europe/London:20260505T100000
LOCATION:LABS Network
SEQUENCE:0
SUMMARY:Massage sessions 
UID:5f7237e6-fc5b-47ed-a086-baadfd37d8d1
END:VEVENT
END:VCALENDAR
