BEGIN:VCALENDAR
PRODID:Nexudus
VERSION:2.0
BEGIN:VTIMEZONE
TZID:Europe/London
X-LIC-LOCATION:Europe/London
BEGIN:STANDARD
DTSTART:20241027T020000
RRULE:FREQ=YEARLY;BYDAY=-1SU;BYMONTH=10
TZNAME:GMT
TZOFFSETFROM:+0100
TZOFFSETTO:+0000
END:STANDARD
BEGIN:DAYLIGHT
DTSTART:20250330T010000
RRULE:FREQ=YEARLY;BYDAY=-1SU;BYMONTH=3
TZNAME:BST
TZOFFSETFROM:+0000
TZOFFSETTO:+0100
END:DAYLIGHT
END:VTIMEZONE
BEGIN:VEVENT
DESCRIPTION:\nEvent link: https://labsnetworks.spaces.nexudus.com/en/events
 /view/1415698899/evening-strength--hawley-lock\n
DTEND;TZID=Europe/London:20260526T181500
DTSTAMP:20260421T232515Z
DTSTART;TZID=Europe/London:20260526T173000
LOCATION:LABS Hawley Lock
SEQUENCE:0
SUMMARY:Evening strength: Hawley Lock
UID:5c43d8e3-1665-4221-bc69-31e068c90bf4
END:VEVENT
END:VCALENDAR
