BEGIN:VCALENDAR
PRODID:Nexudus
VERSION:2.0
BEGIN:VTIMEZONE
TZID:Europe/London
X-LIC-LOCATION:Europe/London
BEGIN:STANDARD
DTSTART:20241027T020000
RRULE:FREQ=YEARLY;BYDAY=-1SU;BYMONTH=10
TZNAME:GMT
TZOFFSETFROM:+0100
TZOFFSETTO:+0000
END:STANDARD
BEGIN:DAYLIGHT
DTSTART:20250330T010000
RRULE:FREQ=YEARLY;BYDAY=-1SU;BYMONTH=3
TZNAME:BST
TZOFFSETFROM:+0000
TZOFFSETTO:+0100
END:DAYLIGHT
END:VTIMEZONE
BEGIN:VEVENT
DESCRIPTION:A dynamic class focused on core strength\,\nstability and preci
 sion of movement.\nEvent link: https://labsnetworks.spaces.nexudus.com/en/
 events/view/1415698886/pilates\n
DTEND;TZID=Europe/London:20260511T125000
DTSTAMP:20260423T133405Z
DTSTART;TZID=Europe/London:20260511T120000
LOCATION:Hogarth House · Platinum
SEQUENCE:0
SUMMARY:Pilates
UID:9603458f-8be6-4b4d-9af4-5bf7b80fb091
END:VEVENT
END:VCALENDAR
