BEGIN:VCALENDAR
PRODID:Nexudus
VERSION:2.0
BEGIN:VTIMEZONE
TZID:Europe/London
X-LIC-LOCATION:Europe/London
BEGIN:STANDARD
DTSTART:20241027T020000
RRULE:FREQ=YEARLY;BYDAY=-1SU;BYMONTH=10
TZNAME:GMT
TZOFFSETFROM:+0100
TZOFFSETTO:+0000
END:STANDARD
BEGIN:DAYLIGHT
DTSTART:20250330T010000
RRULE:FREQ=YEARLY;BYDAY=-1SU;BYMONTH=3
TZNAME:BST
TZOFFSETFROM:+0000
TZOFFSETTO:+0100
END:DAYLIGHT
END:VTIMEZONE
BEGIN:VEVENT
DESCRIPTION:Freshly prepared matcha\, whisked to order.\nEvent link: https:
 //labsnetworks.spaces.nexudus.com/en/events/view/1415698770/matcha-bar\n
DTEND;TZID=Europe/London:20260513T091500
DTSTAMP:20260423T133248Z
DTSTART;TZID=Europe/London:20260513T091500
LOCATION:90 High Holborn\, Kitchen
SEQUENCE:0
SUMMARY:Matcha Bar
UID:98bff33e-18cb-445e-bcd4-5cab5336730a
END:VEVENT
END:VCALENDAR
