BEGIN:VCALENDAR
PRODID:Nexudus
VERSION:2.0
BEGIN:VTIMEZONE
TZID:Europe/London
X-LIC-LOCATION:Europe/London
BEGIN:STANDARD
DTSTART:20241027T020000
RRULE:FREQ=YEARLY;BYDAY=-1SU;BYMONTH=10
TZNAME:GMT
TZOFFSETFROM:+0100
TZOFFSETTO:+0000
END:STANDARD
BEGIN:DAYLIGHT
DTSTART:20250330T010000
RRULE:FREQ=YEARLY;BYDAY=-1SU;BYMONTH=3
TZNAME:BST
TZOFFSETFROM:+0000
TZOFFSETTO:+0100
END:DAYLIGHT
END:VTIMEZONE
BEGIN:VEVENT
DESCRIPTION:Join us for a 1-hour Strength and Conditioning class suitable f
 or all abilities.\n\n\nEvent link: https://labsnetworks.spaces.nexudus.com
 /en/events/view/1415638422/evening-strength--labs-house\n
DTEND;TZID=Europe/London:20260513T190000
DTSTAMP:20260421T184801Z
DTSTART;TZID=Europe/London:20260513T180000
LOCATION:LABS House\, lower ground floor
SEQUENCE:0
SUMMARY:Evening strength: LABS House
UID:eec7af7d-eed4-4868-be1d-e5ce5a481055
END:VEVENT
END:VCALENDAR
